Workbook
Name angestrebterGrad: MV!$C$3:$C$7
Name Ausrichter: Außenseite!$S$16
Name bisherigerGrad: MV!$A$3:$A$7
Name bNb: MV!$A$9:$A$10
Name Kinderprüfungsgrenze: ZE!$A$2
Name mindestalterErreicht: ZE!$C$4:$C$28
Name nst: MV!$C$3:$M$7
Name nstGrad: MV!$A$3:$C$7
Name pli: MV!$P$3:$AH$7
Name PTag: Außenseite!$P$14
Name vorbereitungszeitErreicht: ZE!$E$4:$E$28

Sheet Außenseite
B1: Prüfungsbericht | N1: Deutscher Ju-Jutsu Verband e.V.
B2: Die Prüfung haben bestanden:
N3: Prüfungsliste
N5: für Prüfungen bei Polizei und Sicherheitsbehörden
B6: =IF(VLOOKUP(C6,nst,6,FALSE)>0, VLOOKUP(C6,nst,6,FALSE),"") | C6: 5. Kyu | D6: gelb | H6: =IF(VLOOKUP(I6,nst,6,FALSE)>0, VLOOKUP(I6,nst,6,FALSE),"") | I6: 2. Kyu | J6: blau
B8: =IF(VLOOKUP(C8,nst,6,FALSE)>0, VLOOKUP(C8,nst,6,FALSE),"") | C8: 4. Kyu | D8: orange | H8: =IF(VLOOKUP(I8,nst,6,FALSE)>0, VLOOKUP(I8,nst,6,FALSE),"") | I8: 1. Kyu | J8: braun
B10: =IF(VLOOKUP(C10,nst,6,FALSE)>0, VLOOKUP(C10,nst,6,FALSE),"") | C10: 3. Kyu | D10: grün
O12: X | P12: Kyu-Prüfung
N14: Datum: | P14: =TODAY() -> 46097 | S14: Beginn: | U14: Uhr | X14: Ende: | Z14: Uhr
N16: Ausrichter:
N18: Ort der Prüfung:
B19: =IF(COUNTIF(Prüfungsliste!AB3:AB27,"NB")>0,COUNTIF(Prüfungsliste!AB3:AB27,"NB"),"") | C19: Prüflinge haben nicht bestanden
B21: Welche Mängel wurden festgestellt: | N21: Anzahl der Prüfer: | S21: =IF(COUNTA(S23,S25,S27)>0,COUNTA(S23,S25,S27),"")
N23: Namen der Prüfer: | Z23: . Dan
Z25: . Dan
B30: Vorschläge/Bemerkungen der Prüfer: | N30: Vermerke usw. des Landesverbandes:
N32: Prüfung Nr.
N34: Anmeldung am: | U34: durch:
N36: Mit der Zusendung der Prüfungslisten, der eingetragenen Prüfungsnummer und der Prüfungsunterlagen gilt die angemeldete Prüfung als genehmigt.
N38: Zugesandte Prüfungsunterlagen: | U38: Kyu-Marken + Urkunden
U40: Prüfungsliste/n
N42: Für die Durchführung der Prüfung gilt die Prüfungsordnung des DJJV in der jeweils aktuellen Fassung.
N44: =CONCATENATE("Diese Prüfungsliste ist nach der Prüfung ausgefüllt - ggf. mit den Pässen, bis spätestens zwei Wochen nach dem Prüfungstermin (d.h. bis zum ", TEXT(DATE(YEAR(PTag),MONTH(PTag),DAY(PTag)+14),"T.M.JJ"), ") zurückzusenden.") -> Diese Prüfungsliste ist nach der Prüfung ausgefüllt - ggf. mit den Pässen, bis spätestens zwei Wochen nach dem Prüfungstermin (d.h. bis zum 30.3.26) zurückzusenden.
B46: Unterschrift des/der Prüfer/s | Z46: © 2025 Jens Dykow

Sheet Prüfungsliste
A1: Lfd. Nr. | B1: Name, Vorname | C1: Verein / Behörde | D1: geb. am | E1: Letzte Prüfung bzw. Ju-Jutsu seit | G1: angestrebter Grad | H1: Eigene Bodenlage | I1: Bodenlage des Gegenübers | J1: Abwehrmaßnahmen | K1: Distanzmanagement | L1: Techniken bei schw. Angriffen | M1: Überwältigung in Bodenlage | N1: Kontrolle über das Gegenüber | O1: Einsatz/ Schutz der Ausrüstung | P1: Messerabwehr | Q1: spezielle Anwednugsformen | R1: taktische Handlungen | S1: (non)verbale Kommunikation | T1: Angriffs-/Partnerverhalten | U1: Verhältnismäßigkeit/ Rechtsk. | V1: Lehrgangs-Nachweis | W1: Anzahl der Prüfer | X1: Mindestpunktzahl | Y1: Punkte diese Liste | Z1: 2 Prüfer: Punkte 2. Liste | AA1: Punkte alle Prüfer | AB1: Bestanden (B/NB) | AC1: Neuer Grad | AE1: Prüfungsliste für Prüfungen bei Polizei und Sicherheitsbehörden
E2: Datum | F2: Grad
A3: 1 | C3: =IF(AND(B3<>"",Ausrichter<>""),Ausrichter,"") | G3: =ZE!B4 | W3: =IF(G3<>"",VLOOKUP(G3,pli,18,FALSE),"") | X3: =ZE!G4 | Y3: =IF(AND(G3<>"",COUNT(H3:U3)>0),SUM(H3:U3),"") | AA3: =IF(G3<>"", IF(ZE!F4=COUNT(H3:U3), IF(W3=1, Y3, IF(AND(W3=2,Z3<>""), Z3+Y3, "")), ""), "") | AB3: =IF(ZE!I4,IF(ZE!K4,"B","NB"),"") | AC3: =IF(AB3<>"",IF(AB3="B",G3,"----"),"") | AE3: Datum: | AF3: =IF(PTag <> "",CONCATENATE(TEXT(PTag,"T.M.JJ")),"") -> 16.3.26
A4: 2 | C4: =IF(AND(B4<>"",Ausrichter<>""),Ausrichter,"") | G4: =ZE!B5 | W4: =IF(G4<>"",VLOOKUP(G4,pli,18,FALSE),"") | X4: =ZE!G5 | Y4: =IF(AND(G4<>"",COUNT(H4:U4)>0),SUM(H4:U4),"") | AA4: =IF(G4<>"", IF(ZE!F5=COUNT(H4:U4), IF(W4=1, Y4, IF(AND(W4=2,Z4<>""), Z4+Y4, "")), ""), "") | AB4: =IF(ZE!I5,IF(ZE!K5,"B","NB"),"") | AC4: =IF(AB4<>"",IF(AB4="B",G4,"----"),"") | AE4: Ausrichter: | AF4: =IF(Ausrichter<>"",Ausrichter,"")
A5: 3 | C5: =IF(AND(B5<>"",Ausrichter<>""),Ausrichter,"") | G5: =ZE!B6 | W5: =IF(G5<>"",VLOOKUP(G5,pli,18,FALSE),"") | X5: =ZE!G6 | Y5: =IF(AND(G5<>"",COUNT(H5:U5)>0),SUM(H5:U5),"") | AA5: =IF(G5<>"", IF(ZE!F6=COUNT(H5:U5), IF(W5=1, Y5, IF(AND(W5=2,Z5<>""), Z5+Y5, "")), ""), "") | AB5: =IF(ZE!I6,IF(ZE!K6,"B","NB"),"") | AC5: =IF(AB5<>"",IF(AB5="B",G5,"----"),"")
A6: 4 | C6: =IF(AND(B6<>"",Ausrichter<>""),Ausrichter,"") | G6: =ZE!B7 | W6: =IF(G6<>"",VLOOKUP(G6,pli,18,FALSE),"") | X6: =ZE!G7 | Y6: =IF(AND(G6<>"",COUNT(H6:U6)>0),SUM(H6:U6),"") | AA6: =IF(G6<>"", IF(ZE!F7=COUNT(H6:U6), IF(W6=1, Y6, IF(AND(W6=2,Z6<>""), Z6+Y6, "")), ""), "") | AB6: =IF(ZE!I7,IF(ZE!K7,"B","NB"),"") | AC6: =IF(AB6<>"",IF(AB6="B",G6,"----"),"") | AE6: Bewertung: 5 = sehr gut 4 = gut 3 = ausreichend 2 = mangelhaft 1 = ungenügend (nicht bestanden)
A7: 5 | C7: =IF(AND(B7<>"",Ausrichter<>""),Ausrichter,"") | G7: =ZE!B8 | W7: =IF(G7<>"",VLOOKUP(G7,pli,18,FALSE),"") | X7: =ZE!G8 | Y7: =IF(AND(G7<>"",COUNT(H7:U7)>0),SUM(H7:U7),"") | AA7: =IF(G7<>"", IF(ZE!F8=COUNT(H7:U7), IF(W7=1, Y7, IF(AND(W7=2,Z7<>""), Z7+Y7, "")), ""), "") | AB7: =IF(ZE!I8,IF(ZE!K8,"B","NB"),"") | AC7: =IF(AB7<>"",IF(AB7="B",G7,"----"),"")
A8: 6 | C8: =IF(AND(B8<>"",Ausrichter<>""),Ausrichter,"") | G8: =ZE!B9 | W8: =IF(G8<>"",VLOOKUP(G8,pli,18,FALSE),"") | X8: =ZE!G9 | Y8: =IF(AND(G8<>"",COUNT(H8:U8)>0),SUM(H8:U8),"") | AA8: =IF(G8<>"", IF(ZE!F9=COUNT(H8:U8), IF(W8=1, Y8, IF(AND(W8=2,Z8<>""), Z8+Y8, "")), ""), "") | AB8: =IF(ZE!I9,IF(ZE!K9,"B","NB"),"") | AC8: =IF(AB8<>"",IF(AB8="B",G8,"----"),"")
A9: 7 | C9: =IF(AND(B9<>"",Ausrichter<>""),Ausrichter,"") | G9: =ZE!B10 | W9: =IF(G9<>"",VLOOKUP(G9,pli,18,FALSE),"") | X9: =ZE!G10 | Y9: =IF(AND(G9<>"",COUNT(H9:U9)>0),SUM(H9:U9),"") | AA9: =IF(G9<>"", IF(ZE!F10=COUNT(H9:U9), IF(W9=1, Y9, IF(AND(W9=2,Z9<>""), Z9+Y9, "")), ""), "") | AB9: =IF(ZE!I10,IF(ZE!K10,"B","NB"),"") | AC9: =IF(AB9<>"",IF(AB9="B",G9,"----"),"")
A10: 8 | C10: =IF(AND(B10<>"",Ausrichter<>""),Ausrichter,"") | G10: =ZE!B11 | W10: =IF(G10<>"",VLOOKUP(G10,pli,18,FALSE),"") | X10: =ZE!G11 | Y10: =IF(AND(G10<>"",COUNT(H10:U10)>0),SUM(H10:U10),"") | AA10: =IF(G10<>"", IF(ZE!F11=COUNT(H10:U10), IF(W10=1, Y10, IF(AND(W10=2,Z10<>""), Z10+Y10, "")), ""), "") | AB10: =IF(ZE!I11,IF(ZE!K11,"B","NB"),"") | AC10: =IF(AB10<>"",IF(AB10="B",G10,"----"),"")
A11: 9 | C11: =IF(AND(B11<>"",Ausrichter<>""),Ausrichter,"") | G11: =ZE!B12 | W11: =IF(G11<>"",VLOOKUP(G11,pli,18,FALSE),"") | X11: =ZE!G12 | Y11: =IF(AND(G11<>"",COUNT(H11:U11)>0),SUM(H11:U11),"") | AA11: =IF(G11<>"", IF(ZE!F12=COUNT(H11:U11), IF(W11=1, Y11, IF(AND(W11=2,Z11<>""), Z11+Y11, "")), ""), "") | AB11: =IF(ZE!I12,IF(ZE!K12,"B","NB"),"") | AC11: =IF(AB11<>"",IF(AB11="B",G11,"----"),"")
A12: 10 | C12: =IF(AND(B12<>"",Ausrichter<>""),Ausrichter,"") | G12: =ZE!B13 | W12: =IF(G12<>"",VLOOKUP(G12,pli,18,FALSE),"") | X12: =ZE!G13 | Y12: =IF(AND(G12<>"",COUNT(H12:U12)>0),SUM(H12:U12),"") | AA12: =IF(G12<>"", IF(ZE!F13=COUNT(H12:U12), IF(W12=1, Y12, IF(AND(W12=2,Z12<>""), Z12+Y12, "")), ""), "") | AB12: =IF(ZE!I13,IF(ZE!K13,"B","NB"),"") | AC12: =IF(AB12<>"",IF(AB12="B",G12,"----"),"")
A13: 11 | C13: =IF(AND(B13<>"",Ausrichter<>""),Ausrichter,"") | G13: =ZE!B14 | W13: =IF(G13<>"",VLOOKUP(G13,pli,18,FALSE),"") | X13: =ZE!G14 | Y13: =IF(AND(G13<>"",COUNT(H13:U13)>0),SUM(H13:U13),"") | AA13: =IF(G13<>"", IF(ZE!F14=COUNT(H13:U13), IF(W13=1, Y13, IF(AND(W13=2,Z13<>""), Z13+Y13, "")), ""), "") | AB13: =IF(ZE!I14,IF(ZE!K14,"B","NB"),"") | AC13: =IF(AB13<>"",IF(AB13="B",G13,"----"),"")
A14: 12 | C14: =IF(AND(B14<>"",Ausrichter<>""),Ausrichter,"") | G14: =ZE!B15 | W14: =IF(G14<>"",VLOOKUP(G14,pli,18,FALSE),"") | X14: =ZE!G15 | Y14: =IF(AND(G14<>"",COUNT(H14:U14)>0),SUM(H14:U14),"") | AA14: =IF(G14<>"", IF(ZE!F15=COUNT(H14:U14), IF(W14=1, Y14, IF(AND(W14=2,Z14<>""), Z14+Y14, "")), ""), "") | AB14: =IF(ZE!I15,IF(ZE!K15,"B","NB"),"") | AC14: =IF(AB14<>"",IF(AB14="B",G14,"----"),"")
A15: 13 | C15: =IF(AND(B15<>"",Ausrichter<>""),Ausrichter,"") | G15: =ZE!B16 | W15: =IF(G15<>"",VLOOKUP(G15,pli,18,FALSE),"") | X15: =ZE!G16 | Y15: =IF(AND(G15<>"",COUNT(H15:U15)>0),SUM(H15:U15),"") | AA15: =IF(G15<>"", IF(ZE!F16=COUNT(H15:U15), IF(W15=1, Y15, IF(AND(W15=2,Z15<>""), Z15+Y15, "")), ""), "") | AB15: =IF(ZE!I16,IF(ZE!K16,"B","NB"),"") | AC15: =IF(AB15<>"",IF(AB15="B",G15,"----"),"")
A16: 14 | C16: =IF(AND(B16<>"",Ausrichter<>""),Ausrichter,"") | G16: =ZE!B17 | W16: =IF(G16<>"",VLOOKUP(G16,pli,18,FALSE),"") | X16: =ZE!G17 | Y16: =IF(AND(G16<>"",COUNT(H16:U16)>0),SUM(H16:U16),"") | AA16: =IF(G16<>"", IF(ZE!F17=COUNT(H16:U16), IF(W16=1, Y16, IF(AND(W16=2,Z16<>""), Z16+Y16, "")), ""), "") | AB16: =IF(ZE!I17,IF(ZE!K17,"B","NB"),"") | AC16: =IF(AB16<>"",IF(AB16="B",G16,"----"),"")
A17: 15 | C17: =IF(AND(B17<>"",Ausrichter<>""),Ausrichter,"") | G17: =ZE!B18 | W17: =IF(G17<>"",VLOOKUP(G17,pli,18,FALSE),"") | X17: =ZE!G18 | Y17: =IF(AND(G17<>"",COUNT(H17:U17)>0),SUM(H17:U17),"") | AA17: =IF(G17<>"", IF(ZE!F18=COUNT(H17:U17), IF(W17=1, Y17, IF(AND(W17=2,Z17<>""), Z17+Y17, "")), ""), "") | AB17: =IF(ZE!I18,IF(ZE!K18,"B","NB"),"") | AC17: =IF(AB17<>"",IF(AB17="B",G17,"----"),"")
A18: 16 | C18: =IF(AND(B18<>"",Ausrichter<>""),Ausrichter,"") | G18: =ZE!B19 | W18: =IF(G18<>"",VLOOKUP(G18,pli,18,FALSE),"") | X18: =ZE!G19 | Y18: =IF(AND(G18<>"",COUNT(H18:U18)>0),SUM(H18:U18),"") | AA18: =IF(G18<>"", IF(ZE!F19=COUNT(H18:U18), IF(W18=1, Y18, IF(AND(W18=2,Z18<>""), Z18+Y18, "")), ""), "") | AB18: =IF(ZE!I19,IF(ZE!K19,"B","NB"),"") | AC18: =IF(AB18<>"",IF(AB18="B",G18,"----"),"")
... A20: 18 | C20: =IF(AND(B20<>"",Ausrichter<>""),Ausrichter,"") | G20: =ZE!B21 | W20: =IF(G20<>"",VLOOKUP(G20,pli,18,FALSE),"") | X20: =ZE!G21 | Y20: =IF(AND(G20<>"",COUNT(H20:U20)>0),SUM(H20:U20),"") | AA20: =IF(G20<>"", IF(ZE!F21=COUNT(H20:U20), IF(W20=1, Y20, IF(AND(W20=2,Z20<>""), Z20+Y20, "")), ""), "") | AB20: =IF(ZE!I21,IF(ZE!K21,"B","NB"),"") | AC20: =IF(AB20<>"",IF(AB20="B",G20,"----"),"")
A21: 19 | C21: =IF(AND(B21<>"",Ausrichter<>""),Ausrichter,"") | G21: =ZE!B22 | W21: =IF(G21<>"",VLOOKUP(G21,pli,18,FALSE),"") | X21: =ZE!G22 | Y21: =IF(AND(G21<>"",COUNT(H21:U21)>0),SUM(H21:U21),"") | AA21: =IF(G21<>"", IF(ZE!F22=COUNT(H21:U21), IF(W21=1, Y21, IF(AND(W21=2,Z21<>""), Z21+Y21, "")), ""), "") | AB21: =IF(ZE!I22,IF(ZE!K22,"B","NB"),"") | AC21: =IF(AB21<>"",IF(AB21="B",G21,"----"),"") | AE21: Unterschriften
A22: 20 | C22: =IF(AND(B22<>"",Ausrichter<>""),Ausrichter,"") | G22: =ZE!B23 | W22: =IF(G22<>"",VLOOKUP(G22,pli,18,FALSE),"") | X22: =ZE!G23 | Y22: =IF(AND(G22<>"",COUNT(H22:U22)>0),SUM(H22:U22),"") | AA22: =IF(G22<>"", IF(ZE!F23=COUNT(H22:U22), IF(W22=1, Y22, IF(AND(W22=2,Z22<>""), Z22+Y22, "")), ""), "") | AB22: =IF(ZE!I23,IF(ZE!K23,"B","NB"),"") | AC22: =IF(AB22<>"",IF(AB22="B",G22,"----"),"")
A23: 21 | C23: =IF(AND(B23<>"",Ausrichter<>""),Ausrichter,"") | G23: =ZE!B24 | W23: =IF(G23<>"",VLOOKUP(G23,pli,18,FALSE),"") | X23: =ZE!G24 | Y23: =IF(AND(G23<>"",COUNT(H23:U23)>0),SUM(H23:U23),"") | AA23: =IF(G23<>"", IF(ZE!F24=COUNT(H23:U23), IF(W23=1, Y23, IF(AND(W23=2,Z23<>""), Z23+Y23, "")), ""), "") | AB23: =IF(ZE!I24,IF(ZE!K24,"B","NB"),"") | AC23: =IF(AB23<>"",IF(AB23="B",G23,"----"),"")
A24: 22 | C24: =IF(AND(B24<>"",Ausrichter<>""),Ausrichter,"") | G24: =ZE!B25 | W24: =IF(G24<>"",VLOOKUP(G24,pli,18,FALSE),"") | X24: =ZE!G25 | Y24: =IF(AND(G24<>"",COUNT(H24:U24)>0),SUM(H24:U24),"") | AA24: =IF(G24<>"", IF(ZE!F25=COUNT(H24:U24), IF(W24=1, Y24, IF(AND(W24=2,Z24<>""), Z24+Y24, "")), ""), "") | AB24: =IF(ZE!I25,IF(ZE!K25,"B","NB"),"") | AC24: =IF(AB24<>"",IF(AB24="B",G24,"----"),"") | AE24: =IF(Außenseite!S23<>"",Außenseite!S23,"Prüfer 1") -> Prüfer 1
A25: 23 | C25: =IF(AND(B25<>"",Ausrichter<>""),Ausrichter,"") | G25: =ZE!B26 | W25: =IF(G25<>"",VLOOKUP(G25,pli,18,FALSE),"") | X25: =ZE!G26 | Y25: =IF(AND(G25<>"",COUNT(H25:U25)>0),SUM(H25:U25),"") | AA25: =IF(G25<>"", IF(ZE!F26=COUNT(H25:U25), IF(W25=1, Y25, IF(AND(W25=2,Z25<>""), Z25+Y25, "")), ""), "") | AB25: =IF(ZE!I26,IF(ZE!K26,"B","NB"),"") | AC25: =IF(AB25<>"",IF(AB25="B",G25,"----"),"")
A26: 24 | C26: =IF(AND(B26<>"",Ausrichter<>""),Ausrichter,"") | G26: =ZE!B27 | W26: =IF(G26<>"",VLOOKUP(G26,pli,18,FALSE),"") | X26: =ZE!G27 | Y26: =IF(AND(G26<>"",COUNT(H26:U26)>0),SUM(H26:U26),"") | AA26: =IF(G26<>"", IF(ZE!F27=COUNT(H26:U26), IF(W26=1, Y26, IF(AND(W26=2,Z26<>""), Z26+Y26, "")), ""), "") | AB26: =IF(ZE!I27,IF(ZE!K27,"B","NB"),"") | AC26: =IF(AB26<>"",IF(AB26="B",G26,"----"),"")
A27: 25 | C27: =IF(AND(B27<>"",Ausrichter<>""),Ausrichter,"") | G27: =ZE!B28 | W27: =IF(G27<>"",VLOOKUP(G27,pli,18,FALSE),"") | X27: =ZE!G28 | Y27: =IF(AND(G27<>"",COUNT(H27:U27)>0),SUM(H27:U27),"") | AA27: =IF(G27<>"", IF(ZE!F28=COUNT(H27:U27), IF(W27=1, Y27, IF(AND(W27=2,Z27<>""), Z27+Y27, "")), ""), "") | AB27: =IF(ZE!I28,IF(ZE!K28,"B","NB"),"") | AC27: =IF(AB27<>"",IF(AB27="B",G27,"----"),"") | AE27: =IF(Außenseite!S25<>"",Außenseite!S25,"Prüfer 2") -> Prüfer 2

Sheet MV
C1: 1 | D1: 2 | E1: 3 | F1: 4 | G1: 5 | H1: 6 | I1: 7 | J1: 8 | K1: 9 | L1: 10 | M1: 11 | P1: 1 | Q1: 2 | R1: 3 | S1: 4 | T1: 5 | U1: 6 | V1: 7 | W1: 8 | X1: 9 | Y1: 10 | Z1: 11 | AA1: 12 | AB1: 13 | AC1: 14 | AD1: 15 | AE1: 16 | AF1: 17 | AG1: 18 | AH1: 19
A2: Grad | B2: angestrebter Grad | C2: angestrebter Kindergrad | D2: Mindestalter | E2: geb. am | F2: Vorbereitungszeit | G2: Letzte Prüfung bzw. Ju-Jutsu seit Datum | H2: Anzahl bestanden laut Liste | I2: Anzahl Angestrebt laut Liste | J2: Kyu-/Dangrad | K2: Gürtelfarbe | L2: Zusatz | M2: Urkundenart | P2: Schlüssel | Q2: Eigene Bodenlage | R2: Bodenlage des Gegenübers | S2: Abwehrmaßnahmen | T2: Distanzmanagement | U2: Techniken bei schw. Angriffen | V2: Überwältigung in Bodenlage | W2: Kontrolle über das Gegenüber | X2: Einsatz/ Schutz der Ausrüstung | Y2: Messerabwehr | Z2: spezielle Anwednugsformen | AA2: taktische Handlungen | AB2: (non)verbale Kommunikation | AC2: Angriffs-/Partnerverhalten | AD2: Verhältnismäßigkeit/ Rechtsk. | AE2: Lehrgangs-Nachweis | AF2: Anzahl der Prüfungsfächer | AG2: Anzahl der Prüfer | AH2: Mindestpunktzahl alle Prüfer
A3: 6. Kyu | B3: 5. Kyu | C3: 5. Kyu | D3: 8 | E3: =DATE(YEAR(PTag)-D3,MONTH(PTag),DAY(PTag)) -> 43175 | F3: 6 | G3: =DATE(IF(MONTH(PTag)>F3,YEAR(PTag),YEAR(PTag)-1),IF(MONTH(PTag)>F3,(MONTH(PTag)-F3),MONTH(PTag)+12-F3),DAY(PTag)) -> 45916 | H3: =COUNTIF(Prüfungsliste!AC$3:AC$27,MV!C3) -> 0 | I3: =COUNTIF(Prüfungsliste!G$3:G$27,MV!C3) -> 0 | J3: 5. | K3: gelben | L3: ="" | M3: K | P3: 5. Kyu | Q3: 1 | R3: 1 | S3: 1 | T3: 1 | U3: 1 | V3: 1 | W3: 1 | X3: 0 | Y3: 0 | Z3: 0 | AA3: 1 | AB3: 1 | AC3: 1 | AD3: 1 | AE3: 1 | AF3: =SUM(Q3:AD3) -> 11 | AG3: 1 | AH3: =AF3*3 -> 33
A4: 5. Kyu | B4: 4. Kyu | C4: 4. Kyu | D4: 10 | E4: =DATE(YEAR(PTag)-D4,MONTH(PTag),DAY(PTag)) -> 42445 | F4: 6 | G4: =DATE(IF(MONTH(PTag)>F4,YEAR(PTag),YEAR(PTag)-1),IF(MONTH(PTag)>F4,(MONTH(PTag)-F4),MONTH(PTag)+12-F4),DAY(PTag)) -> 45916 | H4: =COUNTIF(Prüfungsliste!AC$3:AC$27,MV!C4) -> 0 | I4: =COUNTIF(Prüfungsliste!G$3:G$27,MV!C4) -> 0 | J4: 4. | K4: orangen | L4: ="" | M4: K | P4: 4. Kyu | Q4: 1 | R4: 1 | S4: 1 | T4: 1 | U4: 1 | V4: 1 | W4: 1 | X4: 1 | Y4: 1 | Z4: 1 | AA4: 1 | AB4: 1 | AC4: 1 | AD4: 1 | AE4: 1 | AF4: =SUM(Q4:AD4) -> 14 | AG4: 1 | AH4: =AF4*3 -> 42
A5: 4. Kyu | B5: 3. Kyu | C5: 3. Kyu | D5: 12 | E5: =DATE(YEAR(PTag)-D5,MONTH(PTag),DAY(PTag)) -> 41714 | F5: 6 | G5: =DATE(IF(MONTH(PTag)>F5,YEAR(PTag),YEAR(PTag)-1),IF(MONTH(PTag)>F5,(MONTH(PTag)-F5),MONTH(PTag)+12-F5),DAY(PTag)) -> 45916 | H5: =COUNTIF(Prüfungsliste!AC$3:AC$27,MV!C5) -> 0 | I5: =COUNTIF(Prüfungsliste!G$3:G$27,MV!C5) -> 0 | J5: 3. | K5: grünen | L5: ="" | M5: K | P5: 3. Kyu | Q5: 1 | R5: 1 | S5: 1 | T5: 1 | U5: 1 | V5: 1 | W5: 1 | X5: 1 | Y5: 1 | Z5: 1 | AA5: 1 | AB5: 1 | AC5: 1 | AD5: 1 | AE5: 1 | AF5: =SUM(Q5:AD5) -> 14 | AG5: 1 | AH5: =AF5*3 -> 42
A6: 3. Kyu | B6: 2. Kyu | C6: 2. Kyu | D6: 14 | E6: =DATE(YEAR(PTag)-D6,MONTH(PTag),DAY(PTag)) -> 40984 | F6: 6 | G6: =DATE(IF(MONTH(PTag)>F6,YEAR(PTag),YEAR(PTag)-1),IF(MONTH(PTag)>F6,(MONTH(PTag)-F6),MONTH(PTag)+12-F6),DAY(PTag)) -> 45916 | H6: =COUNTIF(Prüfungsliste!AC$3:AC$27,MV!C6) -> 0 | I6: =COUNTIF(Prüfungsliste!G$3:G$27,MV!C6) -> 0 | J6: 2. | K6: blauen | L6: ="" | M6: K | P6: 2. Kyu | Q6: 1 | R6: 1 | S6: 1 | T6: 0 | U6: 0 | V6: 1 | W6: 1 | X6: 1 | Y6: 1 | Z6: 1 | AA6: 1 | AB6: 1 | AC6: 1 | AD6: 1 | AE6: 1 | AF6: =SUM(Q6:AD6) -> 12 | AG6: 2 | AH6: =AF6*3 -> 36
A7: 2. Kyu | B7: 1. Kyu | C7: 1. Kyu | D7: 16 | E7: =DATE(YEAR(PTag)-D7,MONTH(PTag),DAY(PTag)) -> 40253 | F7: 12 | G7: =DATE(IF(MONTH(PTag)>F7,YEAR(PTag),YEAR(PTag)-1),IF(MONTH(PTag)>F7,(MONTH(PTag)-F7),MONTH(PTag)+12-F7),DAY(PTag)) -> 45732 | H7: =COUNTIF(Prüfungsliste!AC$3:AC$27,MV!C7) -> 0 | I7: =COUNTIF(Prüfungsliste!G$3:G$27,MV!C7) -> 0 | J7: 1. | K7: braunen | L7: ="" | M7: K | P7: 1. Kyu | Q7: 1 | R7: 1 | S7: 1 | T7: 0 | U7: 0 | V7: 1 | W7: 0 | X7: 1 | Y7: 1 | Z7: 1 | AA7: 1 | AB7: 1 | AC7: 1 | AD7: 1 | AE7: 1 | AF7: =SUM(Q7:AD7) -> 11 | AG7: 2 | AH7: =AF7*3 -> 33
A9: B
A10: NB
D14: Autor/Rechte: © 2026 Jens Dykow
D15: Version | E15: Datum | F15: Änderungen
D16: 0.1 | E16: 46090 | F16: Arbeitsfassung
D17: 0.2 | E17: 46095 | F17: Anpassungen gem. Wunsch P. Wendt, Version ohne Formeln zur Auswertung
D18: 0.3 | E18: 46097 | F18: Formeln zur Auswertung wieder eingefügt; MV und ZE ausgemistet

Sheet ZE
A1: Kinderprüfungshöchstalter | C1: Toleranz in Tagen | D1: Toleranz in Prozent
A2: 15 | C2: 14 | D2: 5
A3: Kinderprüfungmöglich | B3: Angestr. Grad | C3: Mindestalter erreicht | D3: Vorbereitungszeit - Toleranz | E3: Vorbereitungszeit erreicht | F3: Anzahl der Prüfungsfäc her | G3: Mindestpunktzahl | H3: Alle Punkte vergeben? | I3: Eintragungen listenübergreifend vollständig? | J3: Ergebnis erster Prüfer | K3: Ergebnis alle Prüfer | L3: Kann nicht mehr bestehen wegen 1 Punkt | M3: Kann nicht mehr bestehen | N3: Bestanden
A4: =AND(Prüfungsliste!D3<>"",YEARFRAC(Prüfungsliste!D3,PTag)<=Kinderprüfungsgrenze) -> FALSE | B4: =IF(Prüfungsliste!$F3<>"",VLOOKUP(Prüfungsliste!$F3,nstGrad,IF(A4,3,2),FALSE),"") | C4: =IF(Prüfungsliste!G3<>"",OR(VLOOKUP(Prüfungsliste!G3,nst,3,FALSE)="",VLOOKUP(Prüfungsliste!G3,nst,3,FALSE)>=DATE(YEAR(Prüfungsliste!D3),MONTH(Prüfungsliste!D3),DAY(Prüfungsliste!D3)-C$2)),TRUE) -> TRUE | D4: =IF(B4<>"",VLOOKUP(B4,nst,4,FALSE)*D$2*30/100,"") | E4: =IF(Prüfungsliste!G3<>"",OR(VLOOKUP(Prüfungsliste!G3,nst,5,FALSE)="",VLOOKUP(Prüfungsliste!G3,nst,5,FALSE)>=DATE(YEAR(Prüfungsliste!E3),MONTH(Prüfungsliste!E3),DAY(Prüfungsliste!E3)-D4)),TRUE) -> TRUE | F4: =IF(Prüfungsliste!G3<>"", VLOOKUP(Prüfungsliste!G3,pli,17,FALSE), "") | G4: =IF(Prüfungsliste!G3<>"", IF(Prüfungsliste!W3=2, VLOOKUP(Prüfungsliste!G3,pli,19,FALSE)*2, VLOOKUP(Prüfungsliste!G3,pli,19,FALSE)), "") | H4: =IF(Prüfungsliste!G3<>"", OR( ZE!F4=COUNT(Prüfungsliste!H3:U3), ZE!M4), FALSE) -> FALSE | I4: =IF(Prüfungsliste!G3<>"",AND(H4,IF(Prüfungsliste!W3=1,TRUE,IF(Prüfungsliste!W3=2,Prüfungsliste!Z3>0,IF(Prüfungsliste!W3=3,AND(Prüfungsliste!#REF!<>"",Prüfungsliste!#REF!<>""),FALSE)))),FALSE) -> FALSE | J4: =IF(Prüfungsliste!W3=2, TRUE, AND(NOT(M4), Prüfungsliste!Y3>=G4)) -> TRUE | K4: =IF(Prüfungsliste!W3=1, J4, IF(Prüfungsliste!W3=2, Prüfungsliste!Z3+Prüfungsliste!Y3>=G4, FALSE)) -> FALSE | L4: =IF(Prüfungsliste!W3=1,COUNTIF(Prüfungsliste!H3:U3,"=1")>0, FALSE) -> FALSE | M4: =ZE!L4 -> FALSE | N4: =OR(Prüfungsliste!AB3="B",Prüfungsliste!AB3="") -> TRUE
A5: =AND(Prüfungsliste!D4<>"",YEARFRAC(Prüfungsliste!D4,PTag)<=Kinderprüfungsgrenze) -> FALSE | B5: =IF(Prüfungsliste!$F4<>"",VLOOKUP(Prüfungsliste!$F4,nstGrad,IF(A5,3,2),FALSE),"") | C5: =IF(Prüfungsliste!G4<>"",OR(VLOOKUP(Prüfungsliste!G4,nst,3,FALSE)="",VLOOKUP(Prüfungsliste!G4,nst,3,FALSE)>=DATE(YEAR(Prüfungsliste!D4),MONTH(Prüfungsliste!D4),DAY(Prüfungsliste!D4)-C$2)),TRUE) -> TRUE | D5: =IF(B5<>"",VLOOKUP(B5,nst,4,FALSE)*D$2*30/100,"") | E5: =IF(Prüfungsliste!G4<>"",OR(VLOOKUP(Prüfungsliste!G4,nst,5,FALSE)="",VLOOKUP(Prüfungsliste!G4,nst,5,FALSE)>=DATE(YEAR(Prüfungsliste!E4),MONTH(Prüfungsliste!E4),DAY(Prüfungsliste!E4)-D5)),TRUE) -> TRUE | F5: =IF(Prüfungsliste!G4<>"", VLOOKUP(Prüfungsliste!G4,pli,17,FALSE), "") | G5: =IF(Prüfungsliste!G4<>"", IF(Prüfungsliste!W4=2, VLOOKUP(Prüfungsliste!G4,pli,19,FALSE)*2, VLOOKUP(Prüfungsliste!G4,pli,19,FALSE)), "") | H5: =IF(Prüfungsliste!G4<>"", OR( ZE!F5=COUNT(Prüfungsliste!H4:U4), ZE!M5), FALSE) -> FALSE | I5: =IF(Prüfungsliste!G4<>"",AND(H5,IF(Prüfungsliste!W4=1,TRUE,IF(Prüfungsliste!W4=2,Prüfungsliste!Z4>0,IF(Prüfungsliste!W4=3,AND(Prüfungsliste!#REF!<>"",Prüfungsliste!#REF!<>""),FALSE)))),FALSE) -> FALSE | J5: =IF(Prüfungsliste!W4=2, TRUE, AND(NOT(M5), Prüfungsliste!Y4>=G5)) -> TRUE | K5: =IF(Prüfungsliste!W4=1, J5, IF(Prüfungsliste!W4=2, Prüfungsliste!Z4+Prüfungsliste!Y4>=G5, FALSE)) -> FALSE | L5: =IF(Prüfungsliste!W4=1,COUNTIF(Prüfungsliste!H4:U4,"=1")>0, FALSE) -> FALSE | M5: =ZE!L5 -> FALSE | N5: =OR(Prüfungsliste!AB4="B",Prüfungsliste!AB4="") -> TRUE
A6: =AND(Prüfungsliste!D5<>"",YEARFRAC(Prüfungsliste!D5,PTag)<=Kinderprüfungsgrenze) -> FALSE | B6: =IF(Prüfungsliste!$F5<>"",VLOOKUP(Prüfungsliste!$F5,nstGrad,IF(A6,3,2),FALSE),"") | C6: =IF(Prüfungsliste!G5<>"",OR(VLOOKUP(Prüfungsliste!G5,nst,3,FALSE)="",VLOOKUP(Prüfungsliste!G5,nst,3,FALSE)>=DATE(YEAR(Prüfungsliste!D5),MONTH(Prüfungsliste!D5),DAY(Prüfungsliste!D5)-C$2)),TRUE) -> TRUE | D6: =IF(B6<>"",VLOOKUP(B6,nst,4,FALSE)*D$2*30/100,"") | E6: =IF(Prüfungsliste!G5<>"",OR(VLOOKUP(Prüfungsliste!G5,nst,5,FALSE)="",VLOOKUP(Prüfungsliste!G5,nst,5,FALSE)>=DATE(YEAR(Prüfungsliste!E5),MONTH(Prüfungsliste!E5),DAY(Prüfungsliste!E5)-D6)),TRUE) -> TRUE | F6: =IF(Prüfungsliste!G5<>"", VLOOKUP(Prüfungsliste!G5,pli,17,FALSE), "") | G6: =IF(Prüfungsliste!G5<>"", IF(Prüfungsliste!W5=2, VLOOKUP(Prüfungsliste!G5,pli,19,FALSE)*2, VLOOKUP(Prüfungsliste!G5,pli,19,FALSE)), "") | H6: =IF(Prüfungsliste!G5<>"", OR( ZE!F6=COUNT(Prüfungsliste!H5:U5), ZE!M6), FALSE) -> FALSE | I6: =IF(Prüfungsliste!G5<>"",AND(H6,IF(Prüfungsliste!W5=1,TRUE,IF(Prüfungsliste!W5=2,Prüfungsliste!Z5>0,IF(Prüfungsliste!W5=3,AND(Prüfungsliste!#REF!<>"",Prüfungsliste!#REF!<>""),FALSE)))),FALSE) -> FALSE | J6: =IF(Prüfungsliste!W5=2, TRUE, AND(NOT(M6), Prüfungsliste!Y5>=G6)) -> TRUE | K6: =IF(Prüfungsliste!W5=1, J6, IF(Prüfungsliste!W5=2, Prüfungsliste!Z5+Prüfungsliste!Y5>=G6, FALSE)) -> FALSE | L6: =IF(Prüfungsliste!W5=1,COUNTIF(Prüfungsliste!H5:U5,"=1")>0, FALSE) -> FALSE | M6: =ZE!L6 -> FALSE | N6: =OR(Prüfungsliste!AB5="B",Prüfungsliste!AB5="") -> TRUE
A7: =AND(Prüfungsliste!D6<>"",YEARFRAC(Prüfungsliste!D6,PTag)<=Kinderprüfungsgrenze) -> FALSE | B7: =IF(Prüfungsliste!$F6<>"",VLOOKUP(Prüfungsliste!$F6,nstGrad,IF(A7,3,2),FALSE),"") | C7: =IF(Prüfungsliste!G6<>"",OR(VLOOKUP(Prüfungsliste!G6,nst,3,FALSE)="",VLOOKUP(Prüfungsliste!G6,nst,3,FALSE)>=DATE(YEAR(Prüfungsliste!D6),MONTH(Prüfungsliste!D6),DAY(Prüfungsliste!D6)-C$2)),TRUE) -> TRUE | D7: =IF(B7<>"",VLOOKUP(B7,nst,4,FALSE)*D$2*30/100,"") | E7: =IF(Prüfungsliste!G6<>"",OR(VLOOKUP(Prüfungsliste!G6,nst,5,FALSE)="",VLOOKUP(Prüfungsliste!G6,nst,5,FALSE)>=DATE(YEAR(Prüfungsliste!E6),MONTH(Prüfungsliste!E6),DAY(Prüfungsliste!E6)-D7)),TRUE) -> TRUE | F7: =IF(Prüfungsliste!G6<>"", VLOOKUP(Prüfungsliste!G6,pli,17,FALSE), "") | G7: =IF(Prüfungsliste!G6<>"", IF(Prüfungsliste!W6=2, VLOOKUP(Prüfungsliste!G6,pli,19,FALSE)*2, VLOOKUP(Prüfungsliste!G6,pli,19,FALSE)), "") | H7: =IF(Prüfungsliste!G6<>"", OR( ZE!F7=COUNT(Prüfungsliste!H6:U6), ZE!M7), FALSE) -> FALSE | I7: =IF(Prüfungsliste!G6<>"",AND(H7,IF(Prüfungsliste!W6=1,TRUE,IF(Prüfungsliste!W6=2,Prüfungsliste!Z6>0,IF(Prüfungsliste!W6=3,AND(Prüfungsliste!#REF!<>"",Prüfungsliste!#REF!<>""),FALSE)))),FALSE) -> FALSE | J7: =IF(Prüfungsliste!W6=2, TRUE, AND(NOT(M7), Prüfungsliste!Y6>=G7)) -> TRUE | K7: =IF(Prüfungsliste!W6=1, J7, IF(Prüfungsliste!W6=2, Prüfungsliste!Z6+Prüfungsliste!Y6>=G7, FALSE)) -> FALSE | L7: =IF(Prüfungsliste!W6=1,COUNTIF(Prüfungsliste!H6:U6,"=1")>0, FALSE) -> FALSE | M7: =ZE!L7 -> FALSE | N7: =OR(Prüfungsliste!AB6="B",Prüfungsliste!AB6="") -> TRUE
A8: =AND(Prüfungsliste!D7<>"",YEARFRAC(Prüfungsliste!D7,PTag)<=Kinderprüfungsgrenze) -> FALSE | B8: =IF(Prüfungsliste!$F7<>"",VLOOKUP(Prüfungsliste!$F7,nstGrad,IF(A8,3,2),FALSE),"") | C8: =IF(Prüfungsliste!G7<>"",OR(VLOOKUP(Prüfungsliste!G7,nst,3,FALSE)="",VLOOKUP(Prüfungsliste!G7,nst,3,FALSE)>=DATE(YEAR(Prüfungsliste!D7),MONTH(Prüfungsliste!D7),DAY(Prüfungsliste!D7)-C$2)),TRUE) -> TRUE | D8: =IF(B8<>"",VLOOKUP(B8,nst,4,FALSE)*D$2*30/100,"") | E8: =IF(Prüfungsliste!G7<>"",OR(VLOOKUP(Prüfungsliste!G7,nst,5,FALSE)="",VLOOKUP(Prüfungsliste!G7,nst,5,FALSE)>=DATE(YEAR(Prüfungsliste!E7),MONTH(Prüfungsliste!E7),DAY(Prüfungsliste!E7)-D8)),TRUE) -> TRUE | F8: =IF(Prüfungsliste!G7<>"", VLOOKUP(Prüfungsliste!G7,pli,17,FALSE), "") | G8: =IF(Prüfungsliste!G7<>"", IF(Prüfungsliste!W7=2, VLOOKUP(Prüfungsliste!G7,pli,19,FALSE)*2, VLOOKUP(Prüfungsliste!G7,pli,19,FALSE)), "") | H8: =IF(Prüfungsliste!G7<>"", OR( ZE!F8=COUNT(Prüfungsliste!H7:U7), ZE!M8), FALSE) -> FALSE | I8: =IF(Prüfungsliste!G7<>"",AND(H8,IF(Prüfungsliste!W7=1,TRUE,IF(Prüfungsliste!W7=2,Prüfungsliste!Z7>0,IF(Prüfungsliste!W7=3,AND(Prüfungsliste!#REF!<>"",Prüfungsliste!#REF!<>""),FALSE)))),FALSE) -> FALSE | J8: =IF(Prüfungsliste!W7=2, TRUE, AND(NOT(M8), Prüfungsliste!Y7>=G8)) -> TRUE | K8: =IF(Prüfungsliste!W7=1, J8, IF(Prüfungsliste!W7=2, Prüfungsliste!Z7+Prüfungsliste!Y7>=G8, FALSE)) -> FALSE | L8: =IF(Prüfungsliste!W7=1,COUNTIF(Prüfungsliste!H7:U7,"=1")>0, FALSE) -> FALSE | M8: =ZE!L8 -> FALSE | N8: =OR(Prüfungsliste!AB7="B",Prüfungsliste!AB7="") -> TRUE
A9: =AND(Prüfungsliste!D8<>"",YEARFRAC(Prüfungsliste!D8,PTag)<=Kinderprüfungsgrenze) -> FALSE | B9: =IF(Prüfungsliste!$F8<>"",VLOOKUP(Prüfungsliste!$F8,nstGrad,IF(A9,3,2),FALSE),"") | C9: =IF(Prüfungsliste!G8<>"",OR(VLOOKUP(Prüfungsliste!G8,nst,3,FALSE)="",VLOOKUP(Prüfungsliste!G8,nst,3,FALSE)>=DATE(YEAR(Prüfungsliste!D8),MONTH(Prüfungsliste!D8),DAY(Prüfungsliste!D8)-C$2)),TRUE) -> TRUE | D9: =IF(B9<>"",VLOOKUP(B9,nst,4,FALSE)*D$2*30/100,"") | E9: =IF(Prüfungsliste!G8<>"",OR(VLOOKUP(Prüfungsliste!G8,nst,5,FALSE)="",VLOOKUP(Prüfungsliste!G8,nst,5,FALSE)>=DATE(YEAR(Prüfungsliste!E8),MONTH(Prüfungsliste!E8),DAY(Prüfungsliste!E8)-D9)),TRUE) -> TRUE | F9: =IF(Prüfungsliste!G8<>"", VLOOKUP(Prüfungsliste!G8,pli,17,FALSE), "") | G9: =IF(Prüfungsliste!G8<>"", IF(Prüfungsliste!W8=2, VLOOKUP(Prüfungsliste!G8,pli,19,FALSE)*2, VLOOKUP(Prüfungsliste!G8,pli,19,FALSE)), "") | H9: =IF(Prüfungsliste!G8<>"", OR( ZE!F9=COUNT(Prüfungsliste!H8:U8), ZE!M9), FALSE) -> FALSE | I9: =IF(Prüfungsliste!G8<>"",AND(H9,IF(Prüfungsliste!W8=1,TRUE,IF(Prüfungsliste!W8=2,Prüfungsliste!Z8>0,IF(Prüfungsliste!W8=3,AND(Prüfungsliste!#REF!<>"",Prüfungsliste!#REF!<>""),FALSE)))),FALSE) -> FALSE | J9: =IF(Prüfungsliste!W8=2, TRUE, AND(NOT(M9), Prüfungsliste!Y8>=G9)) -> TRUE | K9: =IF(Prüfungsliste!W8=1, J9, IF(Prüfungsliste!W8=2, Prüfungsliste!Z8+Prüfungsliste!Y8>=G9, FALSE)) -> FALSE | L9: =IF(Prüfungsliste!W8=1,COUNTIF(Prüfungsliste!H8:U8,"=1")>0, FALSE) -> FALSE | M9: =ZE!L9 -> FALSE | N9: =OR(Prüfungsliste!AB8="B",Prüfungsliste!AB8="") -> TRUE
A10: =AND(Prüfungsliste!D9<>"",YEARFRAC(Prüfungsliste!D9,PTag)<=Kinderprüfungsgrenze) -> FALSE | B10: =IF(Prüfungsliste!$F9<>"",VLOOKUP(Prüfungsliste!$F9,nstGrad,IF(A10,3,2),FALSE),"") | C10: =IF(Prüfungsliste!G9<>"",OR(VLOOKUP(Prüfungsliste!G9,nst,3,FALSE)="",VLOOKUP(Prüfungsliste!G9,nst,3,FALSE)>=DATE(YEAR(Prüfungsliste!D9),MONTH(Prüfungsliste!D9),DAY(Prüfungsliste!D9)-C$2)),TRUE) -> TRUE | D10: =IF(B10<>"",VLOOKUP(B10,nst,4,FALSE)*D$2*30/100,"") | E10: =IF(Prüfungsliste!G9<>"",OR(VLOOKUP(Prüfungsliste!G9,nst,5,FALSE)="",VLOOKUP(Prüfungsliste!G9,nst,5,FALSE)>=DATE(YEAR(Prüfungsliste!E9),MONTH(Prüfungsliste!E9),DAY(Prüfungsliste!E9)-D10)),TRUE) -> TRUE | F10: =IF(Prüfungsliste!G9<>"", VLOOKUP(Prüfungsliste!G9,pli,17,FALSE), "") | G10: =IF(Prüfungsliste!G9<>"", IF(Prüfungsliste!W9=2, VLOOKUP(Prüfungsliste!G9,pli,19,FALSE)*2, VLOOKUP(Prüfungsliste!G9,pli,19,FALSE)), "") | H10: =IF(Prüfungsliste!G9<>"", OR( ZE!F10=COUNT(Prüfungsliste!H9:U9), ZE!M10), FALSE) -> FALSE | I10: =IF(Prüfungsliste!G9<>"",AND(H10,IF(Prüfungsliste!W9=1,TRUE,IF(Prüfungsliste!W9=2,Prüfungsliste!Z9>0,IF(Prüfungsliste!W9=3,AND(Prüfungsliste!#REF!<>"",Prüfungsliste!#REF!<>""),FALSE)))),FALSE) -> FALSE | J10: =IF(Prüfungsliste!W9=2, TRUE, AND(NOT(M10), Prüfungsliste!Y9>=G10)) -> TRUE | K10: =IF(Prüfungsliste!W9=1, J10, IF(Prüfungsliste!W9=2, Prüfungsliste!Z9+Prüfungsliste!Y9>=G10, FALSE)) -> FALSE | L10: =IF(Prüfungsliste!W9=1,COUNTIF(Prüfungsliste!H9:U9,"=1")>0, FALSE) -> FALSE | M10: =ZE!L10 -> FALSE | N10: =OR(Prüfungsliste!AB9="B",Prüfungsliste!AB9="") -> TRUE
A11: =AND(Prüfungsliste!D10<>"",YEARFRAC(Prüfungsliste!D10,PTag)<=Kinderprüfungsgrenze) -> FALSE | B11: =IF(Prüfungsliste!$F10<>"",VLOOKUP(Prüfungsliste!$F10,nstGrad,IF(A11,3,2),FALSE),"") | C11: =IF(Prüfungsliste!G10<>"",OR(VLOOKUP(Prüfungsliste!G10,nst,3,FALSE)="",VLOOKUP(Prüfungsliste!G10,nst,3,FALSE)>=DATE(YEAR(Prüfungsliste!D10),MONTH(Prüfungsliste!D10),DAY(Prüfungsliste!D10)-C$2)),TRUE) -> TRUE | D11: =IF(B11<>"",VLOOKUP(B11,nst,4,FALSE)*D$2*30/100,"") | E11: =IF(Prüfungsliste!G10<>"",OR(VLOOKUP(Prüfungsliste!G10,nst,5,FALSE)="",VLOOKUP(Prüfungsliste!G10,nst,5,FALSE)>=DATE(YEAR(Prüfungsliste!E10),MONTH(Prüfungsliste!E10),DAY(Prüfungsliste!E10)-D11)),TRUE) -> TRUE | F11: =IF(Prüfungsliste!G10<>"", VLOOKUP(Prüfungsliste!G10,pli,17,FALSE), "") | G11: =IF(Prüfungsliste!G10<>"", IF(Prüfungsliste!W10=2, VLOOKUP(Prüfungsliste!G10,pli,19,FALSE)*2, VLOOKUP(Prüfungsliste!G10,pli,19,FALSE)), "") | H11: =IF(Prüfungsliste!G10<>"", OR( ZE!F11=COUNT(Prüfungsliste!H10:U10), ZE!M11), FALSE) -> FALSE | I11: =IF(Prüfungsliste!G10<>"",AND(H11,IF(Prüfungsliste!W10=1,TRUE,IF(Prüfungsliste!W10=2,Prüfungsliste!Z10>0,IF(Prüfungsliste!W10=3,AND(Prüfungsliste!#REF!<>"",Prüfungsliste!#REF!<>""),FALSE)))),FALSE) -> FALSE | J11: =IF(Prüfungsliste!W10=2, TRUE, AND(NOT(M11), Prüfungsliste!Y10>=G11)) -> TRUE | K11: =IF(Prüfungsliste!W10=1, J11, IF(Prüfungsliste!W10=2, Prüfungsliste!Z10+Prüfungsliste!Y10>=G11, FALSE)) -> FALSE | L11: =IF(Prüfungsliste!W10=1,COUNTIF(Prüfungsliste!H10:U10,"=1")>0, FALSE) -> FALSE | M11: =ZE!L11 -> FALSE | N11: =OR(Prüfungsliste!AB10="B",Prüfungsliste!AB10="") -> TRUE
A12: =AND(Prüfungsliste!D11<>"",YEARFRAC(Prüfungsliste!D11,PTag)<=Kinderprüfungsgrenze) -> FALSE | B12: =IF(Prüfungsliste!$F11<>"",VLOOKUP(Prüfungsliste!$F11,nstGrad,IF(A12,3,2),FALSE),"") | C12: =IF(Prüfungsliste!G11<>"",OR(VLOOKUP(Prüfungsliste!G11,nst,3,FALSE)="",VLOOKUP(Prüfungsliste!G11,nst,3,FALSE)>=DATE(YEAR(Prüfungsliste!D11),MONTH(Prüfungsliste!D11),DAY(Prüfungsliste!D11)-C$2)),TRUE) -> TRUE | D12: =IF(B12<>"",VLOOKUP(B12,nst,4,FALSE)*D$2*30/100,"") | E12: =IF(Prüfungsliste!G11<>"",OR(VLOOKUP(Prüfungsliste!G11,nst,5,FALSE)="",VLOOKUP(Prüfungsliste!G11,nst,5,FALSE)>=DATE(YEAR(Prüfungsliste!E11),MONTH(Prüfungsliste!E11),DAY(Prüfungsliste!E11)-D12)),TRUE) -> TRUE | F12: =IF(Prüfungsliste!G11<>"", VLOOKUP(Prüfungsliste!G11,pli,17,FALSE), "") | G12: =IF(Prüfungsliste!G11<>"", IF(Prüfungsliste!W11=2, VLOOKUP(Prüfungsliste!G11,pli,19,FALSE)*2, VLOOKUP(Prüfungsliste!G11,pli,19,FALSE)), "") | H12: =IF(Prüfungsliste!G11<>"", OR( ZE!F12=COUNT(Prüfungsliste!H11:U11), ZE!M12), FALSE) -> FALSE | I12: =IF(Prüfungsliste!G11<>"",AND(H12,IF(Prüfungsliste!W11=1,TRUE,IF(Prüfungsliste!W11=2,Prüfungsliste!Z11>0,IF(Prüfungsliste!W11=3,AND(Prüfungsliste!#REF!<>"",Prüfungsliste!#REF!<>""),FALSE)))),FALSE) -> FALSE | J12: =IF(Prüfungsliste!W11=2, TRUE, AND(NOT(M12), Prüfungsliste!Y11>=G12)) -> TRUE | K12: =IF(Prüfungsliste!W11=1, J12, IF(Prüfungsliste!W11=2, Prüfungsliste!Z11+Prüfungsliste!Y11>=G12, FALSE)) -> FALSE | L12: =IF(Prüfungsliste!W11=1,COUNTIF(Prüfungsliste!H11:U11,"=1")>0, FALSE) -> FALSE | M12: =ZE!L12 -> FALSE | N12: =OR(Prüfungsliste!AB11="B",Prüfungsliste!AB11="") -> TRUE
A13: =AND(Prüfungsliste!D12<>"",YEARFRAC(Prüfungsliste!D12,PTag)<=Kinderprüfungsgrenze) -> FALSE | B13: =IF(Prüfungsliste!$F12<>"",VLOOKUP(Prüfungsliste!$F12,nstGrad,IF(A13,3,2),FALSE),"") | C13: =IF(Prüfungsliste!G12<>"",OR(VLOOKUP(Prüfungsliste!G12,nst,3,FALSE)="",VLOOKUP(Prüfungsliste!G12,nst,3,FALSE)>=DATE(YEAR(Prüfungsliste!D12),MONTH(Prüfungsliste!D12),DAY(Prüfungsliste!D12)-C$2)),TRUE) -> TRUE | D13: =IF(B13<>"",VLOOKUP(B13,nst,4,FALSE)*D$2*30/100,"") | E13: =IF(Prüfungsliste!G12<>"",OR(VLOOKUP(Prüfungsliste!G12,nst,5,FALSE)="",VLOOKUP(Prüfungsliste!G12,nst,5,FALSE)>=DATE(YEAR(Prüfungsliste!E12),MONTH(Prüfungsliste!E12),DAY(Prüfungsliste!E12)-D13)),TRUE) -> TRUE | F13: =IF(Prüfungsliste!G12<>"", VLOOKUP(Prüfungsliste!G12,pli,17,FALSE), "") | G13: =IF(Prüfungsliste!G12<>"", IF(Prüfungsliste!W12=2, VLOOKUP(Prüfungsliste!G12,pli,19,FALSE)*2, VLOOKUP(Prüfungsliste!G12,pli,19,FALSE)), "") | H13: =IF(Prüfungsliste!G12<>"", OR( ZE!F13=COUNT(Prüfungsliste!H12:U12), ZE!M13), FALSE) -> FALSE | I13: =IF(Prüfungsliste!G12<>"",AND(H13,IF(Prüfungsliste!W12=1,TRUE,IF(Prüfungsliste!W12=2,Prüfungsliste!Z12>0,IF(Prüfungsliste!W12=3,AND(Prüfungsliste!#REF!<>"",Prüfungsliste!#REF!<>""),FALSE)))),FALSE) -> FALSE | J13: =IF(Prüfungsliste!W12=2, TRUE, AND(NOT(M13), Prüfungsliste!Y12>=G13)) -> TRUE | K13: =IF(Prüfungsliste!W12=1, J13, IF(Prüfungsliste!W12=2, Prüfungsliste!Z12+Prüfungsliste!Y12>=G13, FALSE)) -> FALSE | L13: =IF(Prüfungsliste!W12=1,COUNTIF(Prüfungsliste!H12:U12,"=1")>0, FALSE) -> FALSE | M13: =ZE!L13 -> FALSE | N13: =OR(Prüfungsliste!AB12="B",Prüfungsliste!AB12="") -> TRUE
A14: =AND(Prüfungsliste!D13<>"",YEARFRAC(Prüfungsliste!D13,PTag)<=Kinderprüfungsgrenze) -> FALSE | B14: =IF(Prüfungsliste!$F13<>"",VLOOKUP(Prüfungsliste!$F13,nstGrad,IF(A14,3,2),FALSE),"") | C14: =IF(Prüfungsliste!G13<>"",OR(VLOOKUP(Prüfungsliste!G13,nst,3,FALSE)="",VLOOKUP(Prüfungsliste!G13,nst,3,FALSE)>=DATE(YEAR(Prüfungsliste!D13),MONTH(Prüfungsliste!D13),DAY(Prüfungsliste!D13)-C$2)),TRUE) -> TRUE | D14: =IF(B14<>"",VLOOKUP(B14,nst,4,FALSE)*D$2*30/100,"") | E14: =IF(Prüfungsliste!G13<>"",OR(VLOOKUP(Prüfungsliste!G13,nst,5,FALSE)="",VLOOKUP(Prüfungsliste!G13,nst,5,FALSE)>=DATE(YEAR(Prüfungsliste!E13),MONTH(Prüfungsliste!E13),DAY(Prüfungsliste!E13)-D14)),TRUE) -> TRUE | F14: =IF(Prüfungsliste!G13<>"", VLOOKUP(Prüfungsliste!G13,pli,17,FALSE), "") | G14: =IF(Prüfungsliste!G13<>"", IF(Prüfungsliste!W13=2, VLOOKUP(Prüfungsliste!G13,pli,19,FALSE)*2, VLOOKUP(Prüfungsliste!G13,pli,19,FALSE)), "") | H14: =IF(Prüfungsliste!G13<>"", OR( ZE!F14=COUNT(Prüfungsliste!H13:U13), ZE!M14), FALSE) -> FALSE | I14: =IF(Prüfungsliste!G13<>"",AND(H14,IF(Prüfungsliste!W13=1,TRUE,IF(Prüfungsliste!W13=2,Prüfungsliste!Z13>0,IF(Prüfungsliste!W13=3,AND(Prüfungsliste!#REF!<>"",Prüfungsliste!#REF!<>""),FALSE)))),FALSE) -> FALSE | J14: =IF(Prüfungsliste!W13=2, TRUE, AND(NOT(M14), Prüfungsliste!Y13>=G14)) -> TRUE | K14: =IF(Prüfungsliste!W13=1, J14, IF(Prüfungsliste!W13=2, Prüfungsliste!Z13+Prüfungsliste!Y13>=G14, FALSE)) -> FALSE | L14: =IF(Prüfungsliste!W13=1,COUNTIF(Prüfungsliste!H13:U13,"=1")>0, FALSE) -> FALSE | M14: =ZE!L14 -> FALSE | N14: =OR(Prüfungsliste!AB13="B",Prüfungsliste!AB13="") -> TRUE
A15: =AND(Prüfungsliste!D14<>"",YEARFRAC(Prüfungsliste!D14,PTag)<=Kinderprüfungsgrenze) -> FALSE | B15: =IF(Prüfungsliste!$F14<>"",VLOOKUP(Prüfungsliste!$F14,nstGrad,IF(A15,3,2),FALSE),"") | C15: =IF(Prüfungsliste!G14<>"",OR(VLOOKUP(Prüfungsliste!G14,nst,3,FALSE)="",VLOOKUP(Prüfungsliste!G14,nst,3,FALSE)>=DATE(YEAR(Prüfungsliste!D14),MONTH(Prüfungsliste!D14),DAY(Prüfungsliste!D14)-C$2)),TRUE) -> TRUE | D15: =IF(B15<>"",VLOOKUP(B15,nst,4,FALSE)*D$2*30/100,"") | E15: =IF(Prüfungsliste!G14<>"",OR(VLOOKUP(Prüfungsliste!G14,nst,5,FALSE)="",VLOOKUP(Prüfungsliste!G14,nst,5,FALSE)>=DATE(YEAR(Prüfungsliste!E14),MONTH(Prüfungsliste!E14),DAY(Prüfungsliste!E14)-D15)),TRUE) -> TRUE | F15: =IF(Prüfungsliste!G14<>"", VLOOKUP(Prüfungsliste!G14,pli,17,FALSE), "") | G15: =IF(Prüfungsliste!G14<>"", IF(Prüfungsliste!W14=2, VLOOKUP(Prüfungsliste!G14,pli,19,FALSE)*2, VLOOKUP(Prüfungsliste!G14,pli,19,FALSE)), "") | H15: =IF(Prüfungsliste!G14<>"", OR( ZE!F15=COUNT(Prüfungsliste!H14:U14), ZE!M15), FALSE) -> FALSE | I15: =IF(Prüfungsliste!G14<>"",AND(H15,IF(Prüfungsliste!W14=1,TRUE,IF(Prüfungsliste!W14=2,Prüfungsliste!Z14>0,IF(Prüfungsliste!W14=3,AND(Prüfungsliste!#REF!<>"",Prüfungsliste!#REF!<>""),FALSE)))),FALSE) -> FALSE | J15: =IF(Prüfungsliste!W14=2, TRUE, AND(NOT(M15), Prüfungsliste!Y14>=G15)) -> TRUE | K15: =IF(Prüfungsliste!W14=1, J15, IF(Prüfungsliste!W14=2, Prüfungsliste!Z14+Prüfungsliste!Y14>=G15, FALSE)) -> FALSE | L15: =IF(Prüfungsliste!W14=1,COUNTIF(Prüfungsliste!H14:U14,"=1")>0, FALSE) -> FALSE | M15: =ZE!L15 -> FALSE | N15: =OR(Prüfungsliste!AB14="B",Prüfungsliste!AB14="") -> TRUE
... A28: =AND(Prüfungsliste!D27<>"",YEARFRAC(Prüfungsliste!D27,PTag)<=Kinderprüfungsgrenze) -> FALSE | B28: =IF(Prüfungsliste!$F27<>"",VLOOKUP(Prüfungsliste!$F27,nstGrad,IF(A28,3,2),FALSE),"") | C28: =IF(Prüfungsliste!G27<>"",OR(VLOOKUP(Prüfungsliste!G27,nst,3,FALSE)="",VLOOKUP(Prüfungsliste!G27,nst,3,FALSE)>=DATE(YEAR(Prüfungsliste!D27),MONTH(Prüfungsliste!D27),DAY(Prüfungsliste!D27)-C$2)),TRUE) -> TRUE | D28: =IF(B28<>"",VLOOKUP(B28,nst,4,FALSE)*D$2*30/100,"") | E28: =IF(Prüfungsliste!G27<>"",OR(VLOOKUP(Prüfungsliste!G27,nst,5,FALSE)="",VLOOKUP(Prüfungsliste!G27,nst,5,FALSE)>=DATE(YEAR(Prüfungsliste!E27),MONTH(Prüfungsliste!E27),DAY(Prüfungsliste!E27)-D28)),TRUE) -> TRUE | F28: =IF(Prüfungsliste!G27<>"", VLOOKUP(Prüfungsliste!G27,pli,17,FALSE), "") | G28: =IF(Prüfungsliste!G27<>"", IF(Prüfungsliste!W27=2, VLOOKUP(Prüfungsliste!G27,pli,19,FALSE)*2, VLOOKUP(Prüfungsliste!G27,pli,19,FALSE)), "") | H28: =IF(Prüfungsliste!G27<>"", OR( ZE!F28=COUNT(Prüfungsliste!H27:U27), ZE!M28), FALSE) -> FALSE | I28: =IF(Prüfungsliste!G27<>"",AND(H28,IF(Prüfungsliste!W27=1,TRUE,IF(Prüfungsliste!W27=2,Prüfungsliste!Z27>0,IF(Prüfungsliste!W27=3,AND(Prüfungsliste!#REF!<>"",Prüfungsliste!#REF!<>""),FALSE)))),FALSE) -> FALSE | J28: =IF(Prüfungsliste!W27=2, TRUE, AND(NOT(M28), Prüfungsliste!Y27>=G28)) -> TRUE | K28: =IF(Prüfungsliste!W27=1, J28, IF(Prüfungsliste!W27=2, Prüfungsliste!Z27+Prüfungsliste!Y27>=G28, FALSE)) -> FALSE | L28: =IF(Prüfungsliste!W27=1,COUNTIF(Prüfungsliste!H27:U27,"=1")>0, FALSE) -> FALSE | M28: =ZE!L28 -> FALSE | N28: =OR(Prüfungsliste!AB27="B",Prüfungsliste!AB27="") -> TRUE
